BEGIN:VCALENDAR
VERSION:2.0
PRODID:-//Mieux vivre Expo
CALSCALE:GREGORIAN
X-WR-CALNAME:Mieux vivre Expo
BEGIN:VTIMEZONE
TZID:Europe/Berlin
TZURL:http://tzurl.org/zoneinfo-outlook/Europe/Berlin
X-LIC-LOCATION:Europe/Berlin
BEGIN:DAYLIGHT
TZOFFSETFROM:+0100
TZOFFSETTO:+0200
TZNAME:CEST
DTSTART:19700329T020000
RRULE:FREQ=YEARLY;BYMONTH=3;BYDAY=-1SU
END:DAYLIGHT
BEGIN:STANDARD
TZOFFSETFROM:+0100
TZOFFSETTO:+0200
TZNAME:CET
DTSTART:19701025T030000
RRULE:FREQ=YEARLY;BYMONTH=10;BYDAY=-1SU
END:STANDARD
END:VTIMEZONE
BEGIN:VEVENT
DTSTAMP:20251016T083015Z
UID:45294
DTSTART;VALUE=DATE:20260426
DTEND;VALUE=DATE:20260426
SUMMARY:Initiation à la draisienne
URL;VALUE=URI:https://www.mieux-vivre-expo.com/animation/initiation-a-la-draisienne/
DESCRIPTION:<p data-start="202" data-end="278">Parce qu’apprendre à rouler doit
LOCATION:En bas des escalators
ORGANIZER:Mieux_vivre_Expo
TRANSP:OPAQUE
BEGIN:VALARM
ACTION:DISPLAY
DESCRIPTION:Reminder for Initiation à la draisienne
END:VALARM
END:VEVENT
END:VCALENDAR
