BEGIN:VCALENDAR
VERSION:2.0
PRODID:-//Mieux vivre Expo
CALSCALE:GREGORIAN
X-WR-CALNAME:Mieux vivre Expo
BEGIN:VTIMEZONE
TZID:Europe/Berlin
TZURL:http://tzurl.org/zoneinfo-outlook/Europe/Berlin
X-LIC-LOCATION:Europe/Berlin
BEGIN:DAYLIGHT
TZOFFSETFROM:+0100
TZOFFSETTO:+0200
TZNAME:CEST
DTSTART:19700329T020000
RRULE:FREQ=YEARLY;BYMONTH=3;BYDAY=-1SU
END:DAYLIGHT
BEGIN:STANDARD
TZOFFSETFROM:+0100
TZOFFSETTO:+0200
TZNAME:CET
DTSTART:19701025T030000
RRULE:FREQ=YEARLY;BYMONTH=10;BYDAY=-1SU
END:STANDARD
END:VTIMEZONE
BEGIN:VEVENT
DTSTAMP:20251016T100114Z
UID:45303
DTSTART;VALUE=DATE:20260425
DTEND;VALUE=DATE:20260425
SUMMARY:Ateliers créatifs enfants
URL;VALUE=URI:https://www.mieux-vivre-expo.com/animation/ateliers-creatifs-enfants-4/
DESCRIPTION:<p>Ateliers de Loisirs créatifs pour les enfants âgés de 5 à 12 an
LOCATION:Espace animations &amp\; conférences - Hall A
ORGANIZER:Mieux_vivre_Expo
TRANSP:OPAQUE
BEGIN:VALARM
ACTION:DISPLAY
DESCRIPTION:Reminder for Ateliers créatifs enfants
END:VALARM
END:VEVENT
END:VCALENDAR
