BEGIN:VCALENDAR
VERSION:2.0
PRODID:-//Mieux vivre Expo
CALSCALE:GREGORIAN
X-WR-CALNAME:Mieux vivre Expo
BEGIN:VTIMEZONE
TZID:Europe/Berlin
TZURL:http://tzurl.org/zoneinfo-outlook/Europe/Berlin
X-LIC-LOCATION:Europe/Berlin
BEGIN:DAYLIGHT
TZOFFSETFROM:+0100
TZOFFSETTO:+0200
TZNAME:CEST
DTSTART:19700329T020000
RRULE:FREQ=YEARLY;BYMONTH=3;BYDAY=-1SU
END:DAYLIGHT
BEGIN:STANDARD
TZOFFSETFROM:+0100
TZOFFSETTO:+0200
TZNAME:CET
DTSTART:19701025T030000
RRULE:FREQ=YEARLY;BYMONTH=10;BYDAY=-1SU
END:STANDARD
END:VTIMEZONE
BEGIN:VEVENT
DTSTAMP:20251016T114050Z
UID:45310
DTSTART;VALUE=DATE:20260425
DTEND;VALUE=DATE:20260425
SUMMARY:Déambulation musicale &#8211\; Mademoiselle Faustine
URL;VALUE=URI:https://www.mieux-vivre-expo.com/animation/deambulation-musicale-mademoiselle-faustine/
DESCRIPTION:<p data-start="210" data-end="506">Préparez-vous à voyager dans le t
LOCATION:Ensemble du parc des expositions
ORGANIZER:Mieux_vivre_Expo
TRANSP:OPAQUE
BEGIN:VALARM
ACTION:DISPLAY
DESCRIPTION:Reminder for Déambulation musicale &#8211\; Mademoiselle Faustine
END:VALARM
END:VEVENT
END:VCALENDAR
