BEGIN:VCALENDAR
VERSION:2.0
PRODID:-//Mieux vivre Expo
CALSCALE:GREGORIAN
X-WR-CALNAME:Mieux vivre Expo
BEGIN:VTIMEZONE
TZID:Europe/Berlin
TZURL:http://tzurl.org/zoneinfo-outlook/Europe/Berlin
X-LIC-LOCATION:Europe/Berlin
BEGIN:DAYLIGHT
TZOFFSETFROM:+0100
TZOFFSETTO:+0200
TZNAME:CEST
DTSTART:19700329T020000
RRULE:FREQ=YEARLY;BYMONTH=3;BYDAY=-1SU
END:DAYLIGHT
BEGIN:STANDARD
TZOFFSETFROM:+0100
TZOFFSETTO:+0200
TZNAME:CET
DTSTART:19701025T030000
RRULE:FREQ=YEARLY;BYMONTH=10;BYDAY=-1SU
END:STANDARD
END:VTIMEZONE
BEGIN:VEVENT
DTSTAMP:20251016T140634Z
UID:45317
DTSTART;VALUE=DATE:20260426
DTEND;VALUE=DATE:20260426
SUMMARY:Conférences autour du bien-être
URL;VALUE=URI:https://www.mieux-vivre-expo.com/animation/conferences-autour-du-bien-etre-5/
DESCRIPTION:<p>Tout au long du salon, l’association Émoi et plusieurs exposants
LOCATION:Hall A - Espace Naturellia
ORGANIZER:Mieux_vivre_Expo
TRANSP:OPAQUE
BEGIN:VALARM
ACTION:DISPLAY
DESCRIPTION:Reminder for Conférences autour du bien-être
END:VALARM
END:VEVENT
END:VCALENDAR
